BEGIN:VCALENDAR
VERSION:2.0
PRODID:-//ChamberMaster//Event Calendar 2.0//EN
METHOD:PUBLISH
X-PUBLISHED-TTL:P3D
REFRESH-INTERVAL:P3D
CALSCALE:GREGORIAN
BEGIN:VEVENT
DTSTART:20251120T220000Z
DTEND:20251121T010000Z
X-MICROSOFT-CDO-ALLDAYEVENT:FALSE
SUMMARY:Dance Atlantic Comp Team Fundraiser
DESCRIPTION:
X-ALT-DESC;FMTTYPE=text/html:
LOCATION:Dance Atlantic 312 Chestnut Street\, Atlantic Iowa 50022
UID:e.1973.5703
SEQUENCE:3
DTSTAMP:20260421T081629Z
URL:https://business.atlanticiowa.com/events/details/dance-atlantic-comp-team-fundraiser-5703
END:VEVENT

END:VCALENDAR
